BEGIN:VCALENDAR
VERSION:2.0
PRODID:-//Piru Neighborhood Council - ECPv6.15.13//NONSGML v1.0//EN
CALSCALE:GREGORIAN
METHOD:PUBLISH
X-WR-CALNAME:Piru Neighborhood Council
X-ORIGINAL-URL:https://piru-ca.org
X-WR-CALDESC:Events for Piru Neighborhood Council
REFRESH-INTERVAL;VALUE=DURATION:PT1H
X-Robots-Tag:noindex
X-PUBLISHED-TTL:PT1H
BEGIN:VTIMEZONE
TZID:UTC
BEGIN:STANDARD
TZOFFSETFROM:+0000
TZOFFSETTO:+0000
TZNAME:UTC
DTSTART:20240101T000000
END:STANDARD
END:VTIMEZONE
BEGIN:VEVENT
DTSTART;TZID=UTC:20251113T140000
DTEND;TZID=UTC:20251113T170000
DTSTAMP:20260420T085933
CREATED:20251208T000517Z
LAST-MODIFIED:20251208T000517Z
UID:404-1763042400-1763053200@piru-ca.org
SUMMARY:Christmas Ornament Party
DESCRIPTION:Everyone invited!!\nThursday Nov 13th\, Drop in between 2pm-5pm\nLocation: Piru Library 3811 Center St. (805)646-7323\nMake Ornaments\, enjoy a snack while listening to Christmas music \n Fiesta de Adornos Navideños\n Thank you PNC for material and snacks provided.\nAll ornaments created will be placed on Community Christmas Tree during the Deck the Halls(town) event on November 22nd and 23rd.
URL:https://piru-ca.org/event/christmas-ornament-party/
LOCATION:Piru Library\, 3811 Center St.\, Piru\, CA\, 93040\, United States
CATEGORIES:Volunteer Day
END:VEVENT
BEGIN:VEVENT
DTSTART;TZID=UTC:20251119T190000
DTEND;TZID=UTC:20251119T203000
DTSTAMP:20260420T085933
CREATED:20251208T000120Z
LAST-MODIFIED:20251208T000120Z
UID:400-1763578800-1763584200@piru-ca.org
SUMMARY:PNC Meeting - November 2025
DESCRIPTION:If any of you have information you would like added to the agenda\, please provide it to me for inclusion.  If you are going to be at the meeting to present your info.\, it can be bullet points you send me\, or if you won’t be present\, and want the board to present\, please give me enough detail so that we can present your items. Also\, if you miss getting on the Agenda\, we can still look to add you in last minute!  We so appreciate YOU!
URL:https://piru-ca.org/event/pnc-meeting-november-2025/
LOCATION:Community Center\, Orchard Street\, 802 Orchard Street\, Piru\, CA\, 93040\, United States
CATEGORIES:PNC Meetings
ORGANIZER;CN="Piru Neighborhood Council":MAILTO:piruncinc@gmail.com
END:VEVENT
BEGIN:VEVENT
DTSTART;TZID=UTC:20251122T100000
DTEND;TZID=UTC:20251122T160000
DTSTAMP:20260420T085933
CREATED:20251207T235717Z
LAST-MODIFIED:20251207T235815Z
UID:393-1763805600-1763827200@piru-ca.org
SUMMARY:Community Deck The Halls (Town)
DESCRIPTION:Date: Saturday November 22nd or Sunday November 23rd.\nTime 10am-4pm at Depot.\n Link below – must sign up each member ro receive lunch ( plenty for everyone to help with)\nWe need bodies putting up lights around Center St and depot area.\nDecorating the big Community Christmas tree inside Gazebo\nGarland and bows on the railing around depot and hanging from depot\nAdding clips to the ornaments.\nHope to see everyone back again along with many new volunteers.\nSee pics and videos of last years two day event.\nLet’s make this happen for a community\, while creating memories.
URL:https://piru-ca.org/event/community-deck-the-halls-town/
LOCATION:Piru Train Depot Park\, 680 Piru Square\, Piru\, CA\, 93040\, United States
CATEGORIES:Piru Festivities,Volunteer Day
END:VEVENT
BEGIN:VEVENT
DTSTART;TZID=UTC:20251123T100000
DTEND;TZID=UTC:20251123T160000
DTSTAMP:20260420T085933
CREATED:20251207T235901Z
LAST-MODIFIED:20251207T235901Z
UID:398-1763892000-1763913600@piru-ca.org
SUMMARY:Community Deck The Halls (Town)
DESCRIPTION:Date: Saturday November 22nd or Sunday November 23rd.\nTime 10am-4pm at Depot.\n Link below – must sign up each member ro receive lunch ( plenty for everyone to help with)\nWe need bodies putting up lights around Center St and depot area.\nDecorating the big Community Christmas tree inside Gazebo\nGarland and bows on the railing around depot and hanging from depot\nAdding clips to the ornaments.\nHope to see everyone back again along with many new volunteers.\nSee pics and videos of last years two day event.\nLet’s make this happen for a community\, while creating memories.
URL:https://piru-ca.org/event/community-deck-the-halls-town-2/
LOCATION:CA
CATEGORIES:Piru Festivities,Volunteer Day
END:VEVENT
END:VCALENDAR