BEGIN:VCALENDAR
VERSION:2.0
PRODID:-//Piru Neighborhood Council - ECPv6.15.13//NONSGML v1.0//EN
CALSCALE:GREGORIAN
METHOD:PUBLISH
X-ORIGINAL-URL:https://piru-ca.org
X-WR-CALDESC:Events for Piru Neighborhood Council
REFRESH-INTERVAL;VALUE=DURATION:PT1H
X-Robots-Tag:noindex
X-PUBLISHED-TTL:PT1H
BEGIN:VTIMEZONE
TZID:UTC
BEGIN:STANDARD
TZOFFSETFROM:+0000
TZOFFSETTO:+0000
TZNAME:UTC
DTSTART:20240101T000000
END:STANDARD
END:VTIMEZONE
BEGIN:VEVENT
DTSTART;TZID=UTC:20251015T190000
DTEND;TZID=UTC:20251015T200000
DTSTAMP:20260420T142316
CREATED:20260223T051759Z
LAST-MODIFIED:20260223T051759Z
UID:465-1760554800-1760558400@piru-ca.org
SUMMARY:PNC Meeting - October 2025
DESCRIPTION:If any of you have information you would like added to the agenda\, please provide it to me for inclusion.  If you are going to be at the meeting to present your info.\, it can be bullet points you send me\, or if you won’t be present\, and want the board to present\, please give me enough detail so that we can present your items. Also\, if you miss getting on the Agenda\, we can still look to add you in last minute!  We so appreciate YOU!
URL:https://piru-ca.org/event/pnc-meeting-october-2025/
LOCATION:Piru Train Depot Park\, 680 Piru Square\, Piru\, CA\, 93040\, United States
ORGANIZER;CN="Piru Neighborhood Council":MAILTO:piruncinc@gmail.com
END:VEVENT
END:VCALENDAR