BEGIN:VCALENDAR
VERSION:2.0
PRODID:-//Piru Neighborhood Council - ECPv6.15.13//NONSGML v1.0//EN
CALSCALE:GREGORIAN
METHOD:PUBLISH
X-ORIGINAL-URL:https://piru-ca.org
X-WR-CALDESC:Events for Piru Neighborhood Council
REFRESH-INTERVAL;VALUE=DURATION:PT1H
X-Robots-Tag:noindex
X-PUBLISHED-TTL:PT1H
BEGIN:VTIMEZONE
TZID:UTC
BEGIN:STANDARD
TZOFFSETFROM:+0000
TZOFFSETTO:+0000
TZNAME:UTC
DTSTART:20240101T000000
END:STANDARD
END:VTIMEZONE
BEGIN:VEVENT
DTSTART;TZID=UTC:20250810T120000
DTEND;TZID=UTC:20250810T160000
DTSTAMP:20260422T102218
CREATED:20250804T003231Z
LAST-MODIFIED:20250817T003245Z
UID:373-1754827200-1754841600@piru-ca.org
SUMMARY:Piru Neighborhood Council’s 4th Annual Community Water Day
DESCRIPTION:Hello Piru and New Neighbors\,\n\n\nPlease spread the word\, this Sunday\, Piru Square will be transformed into a Community Water Park. Everyone is invited.\nDate: Sunday August 10th.\nTime: 12-4pm\nLocation: 3977 Center Street\, Piru Square\, Train Depot\, Gazebo park \n Free Admission\n Free Face Painter\n Taco Zacapu will be selling Food\n Snow Cone Truck will be selling Snow Cones and goodies\nParents bring your chairs\, snacks\, drinks and enjoy your neighbors while the kids have a blast!! If you haven’t been to this event\, it’s definitely a fun event for the entire family.
URL:https://piru-ca.org/event/piru-neighborhood-councils-4th-annual-community-water-day/
LOCATION:Piru Train Depot Park\, 680 Piru Square\, Piru\, CA\, 93040\, United States
ORGANIZER;CN="Piru Neighborhood Council":MAILTO:piruncinc@gmail.com
END:VEVENT
BEGIN:VEVENT
DTSTART;TZID=UTC:20250820T190000
DTEND;TZID=UTC:20250820T203000
DTSTAMP:20260422T102218
CREATED:20250817T001902Z
LAST-MODIFIED:20250817T001902Z
UID:371-1755716400-1755721800@piru-ca.org
SUMMARY:PNC Meeting - August 2025
DESCRIPTION:If any of you have information you would like added to the agenda\, please provide it to me for inclusion.  If you are going to be at the meeting to present your info.\, it can be bullet points you send me\, or if you won’t be present\, and want the board to present\, please give me enough detail so that we can present your items. Also\, if you miss getting on the Agenda\, we can still look to add you in last minute!  We so appreciate YOU!
URL:https://piru-ca.org/event/pnc-meeting-august-2025/
LOCATION:Piru Train Depot Park\, 680 Piru Square\, Piru\, CA\, 93040\, United States
CATEGORIES:PNC Meetings
ORGANIZER;CN="Piru Neighborhood Council":MAILTO:piruncinc@gmail.com
END:VEVENT
END:VCALENDAR